BEGIN:VCALENDAR
VERSION:2.0
PRODID:-//Sint-Jozefscollege Humaniora - ECPv6.15.20//NONSGML v1.0//EN
CALSCALE:GREGORIAN
METHOD:PUBLISH
X-WR-CALNAME:Sint-Jozefscollege Humaniora
X-ORIGINAL-URL:https://humaniora.sjcaalst.be
X-WR-CALDESC:Evenementen voor Sint-Jozefscollege Humaniora
REFRESH-INTERVAL;VALUE=DURATION:PT1H
X-Robots-Tag:noindex
X-PUBLISHED-TTL:PT1H
BEGIN:VTIMEZONE
TZID:Europe/Brussels
BEGIN:DAYLIGHT
TZOFFSETFROM:+0100
TZOFFSETTO:+0200
TZNAME:CEST
DTSTART:20250330T010000
END:DAYLIGHT
BEGIN:STANDARD
TZOFFSETFROM:+0200
TZOFFSETTO:+0100
TZNAME:CET
DTSTART:20251026T010000
END:STANDARD
BEGIN:DAYLIGHT
TZOFFSETFROM:+0100
TZOFFSETTO:+0200
TZNAME:CEST
DTSTART:20260329T010000
END:DAYLIGHT
BEGIN:STANDARD
TZOFFSETFROM:+0200
TZOFFSETTO:+0100
TZNAME:CET
DTSTART:20261025T010000
END:STANDARD
BEGIN:DAYLIGHT
TZOFFSETFROM:+0100
TZOFFSETTO:+0200
TZNAME:CEST
DTSTART:20270328T010000
END:DAYLIGHT
BEGIN:STANDARD
TZOFFSETFROM:+0200
TZOFFSETTO:+0100
TZNAME:CET
DTSTART:20271031T010000
END:STANDARD
END:VTIMEZONE
BEGIN:VEVENT
DTSTART;VALUE=DATE:20260425
DTEND;VALUE=DATE:20260426
DTSTAMP:20260421T050345
CREATED:20250922T102658Z
LAST-MODIFIED:20250922T102658Z
UID:9000-1777075200-1777161599@humaniora.sjcaalst.be
SUMMARY:finale Vlaamse Biologie Olympiade
DESCRIPTION:
URL:https://humaniora.sjcaalst.be/event/finale-vlaamse-biologie-olympiade/
END:VEVENT
BEGIN:VEVENT
DTSTART;VALUE=DATE:20260425
DTEND;VALUE=DATE:20260426
DTSTAMP:20260421T050345
CREATED:20250922T102742Z
LAST-MODIFIED:20250922T102742Z
UID:9002-1777075200-1777161599@humaniora.sjcaalst.be
SUMMARY:finale Vlaamse Chemie Olympiade
DESCRIPTION:
URL:https://humaniora.sjcaalst.be/event/finale-vlaamse-chemie-olympiade/
END:VEVENT
BEGIN:VEVENT
DTSTART;VALUE=DATE:20260425
DTEND;VALUE=DATE:20260426
DTSTAMP:20260421T050345
CREATED:20250922T102858Z
LAST-MODIFIED:20250922T102858Z
UID:9006-1777075200-1777161599@humaniora.sjcaalst.be
SUMMARY:finale Vlaamse Fysica Olympiade
DESCRIPTION:
URL:https://humaniora.sjcaalst.be/event/finale-vlaamse-fysica-olympiade/
END:VEVENT
BEGIN:VEVENT
DTSTART;VALUE=DATE:20260425
DTEND;VALUE=DATE:20260426
DTSTAMP:20260421T050345
CREATED:20250922T103242Z
LAST-MODIFIED:20250922T103242Z
UID:9014-1777075200-1777161599@humaniora.sjcaalst.be
SUMMARY:finale Vlaamse Geografie Olympiade
DESCRIPTION:
URL:https://humaniora.sjcaalst.be/event/finale-vlaamse-geografie-olympiade/
END:VEVENT
BEGIN:VEVENT
DTSTART;VALUE=DATE:20260425
DTEND;VALUE=DATE:20260426
DTSTAMP:20260421T050345
CREATED:20250922T103320Z
LAST-MODIFIED:20250922T103320Z
UID:9016-1777075200-1777161599@humaniora.sjcaalst.be
SUMMARY:finale Junior Olympiade Natuurwetenschappen
DESCRIPTION:
URL:https://humaniora.sjcaalst.be/event/finale-junior-olympiade-natuurwetenschappen/
END:VEVENT
END:VCALENDAR